BEGIN:VCALENDAR
VERSION:2.0
PRODID:-//hacksw/handcal//NONSGML v1.0//EN
CALSCALE:GREGORIAN
BEGIN:VEVENT
LOCATION:Rue du Pré Bourru 19460 Naves
DESCRIPTION:Les billets pour le spectacle 2023 du Petit Cabaret de Naves, « 𝗨𝗡 𝗖𝗔𝗕𝗔𝗥𝗘𝗧 𝗘𝗡 𝗢𝗥...
DTSTART:20231201T203000
DTEND:20231203
SUMMARY:Un cabaret en or
URL;VALUE=URI:https://www.naves19.fr/agenda/un-cabaret-en-or-2/
DTSTAMP:20260423T194457
UID:69ea76b92066b
END:VEVENT
END:VCALENDAR